View In:
ArcGIS JavaScript
ArcGIS Online Map Viewer
ArcGIS Earth
ArcMap
View Footprint In:
ArcGIS Online Map Viewer
Service Description: WorldClim21/wc2_bioc_GFDLESM4_ssp126_2041_2060
Name: WorldClim21/wc2_bioc_GFDLESM4_ssp126_2041_2060
Description:
Single Fused Map Cache: false
Extent:
XMin: -180
YMin: -90
XMax: 180
YMax: 90
Spatial Reference: 4326
(4326)
Initial Extent:
XMin: -180
YMin: -90
XMax: 180
YMax: 90
Spatial Reference: 4326
(4326)
Full Extent:
XMin: -180
YMin: -90
XMax: 180
YMax: 90
Spatial Reference: 4326
(4326)
Pixel Size X: 0.041666666666666664
Pixel Size Y: 0.041666666666666664
Band Count: 19
Pixel Type: F32
RasterFunction Infos: {"rasterFunctionInfos": [{
"name": "None",
"description": "",
"help": ""
}]}
Mensuration Capabilities: Basic
Has Histograms: true
Has Colormap: false
Has Multi Dimensions : false
Rendering Rule:
Min Scale: 0
Max Scale: 0
Copyright Text:
Service Data Type: esriImageServiceDataTypeGeneric
Min Values: -53.041667938232, 0.1416667252779, 1.5740747451782, 8.6493101119995, -29.5, -70.900001525879, 1.8999998569489, -64.616668701172, -55.716667175293, -37.116668701172, -65.016662597656, 0, 0, 0, 0, 0, 0, 0, 0
Max Values: 32.654167175293, 22.216667175293, 95.182319641113, 2354.3227539063, 49.799999237061, 27.39999961853, 73, 39.666667938232, 39.866664886475, 40.25, 30.533332824707, 11699, 2998, 524, 230.69151306152, 6597, 1711, 5642, 5811
Mean Values: -2.645306270525, 10.031611824039, 33.972202911465, 880.66802741439, 15.433779243554, -18.44730198802, 33.881081228743, 0.24986584530512, -3.9063556462869, 8.5703663629907, -12.552017774054, 543.04907404779, 96.094355669833, 14.237755864461, 76.636472773029, 243.69502103788, 52.633589310826, 152.13304337513, 111.42863323305
Standard Deviation Values: 24.666324085041, 3.1846464963702, 18.050025339082, 450.38590265944, 21.942280913547, 25.904981349418, 11.52896401728, 29.033344382861, 22.730555802282, 21.386626528233, 26.659718245784, 629.50835892075, 107.17105042288, 25.604296525352, 43.798496511476, 281.95506061187, 88.304611518095, 179.70318848976, 194.10627404896
Object ID Field:
Fields:
None
Default Mosaic Method: Center
Allowed Mosaic Methods:
SortField:
SortValue: null
Mosaic Operator: First
Default Compression Quality: 75
Default Resampling Method: Bilinear
Max Record Count: null
Max Image Height: 4100
Max Image Width: 15000
Max Download Image Count: null
Max Mosaic Image Count: null
Allow Raster Function: true
Allow Compute TiePoints: false
Supports Statistics: false
Supports Advanced Queries: false
Use StandardizedQueries: true
Raster Type Infos:
Name: Raster Dataset
Description: Supports all ArcGIS Raster Datasets
Help:
Has Raster Attribute Table: false
Edit Fields Info: null
Ownership Based AccessControl For Rasters: null
Child Resources:
Info
Histograms
Key Properties
Legend
MultiDimensionalInfo
rasterFunctionInfos
Supported Operations:
Export Image
Identify
Measure
Compute Histograms
Compute Statistics Histograms
Get Samples
Compute Class Statistics
Query Boundary