{
 "currentVersion": 10.61,
 "serviceDescription": "WorldClim21/wc2_bioc_GFDLESM4_ssp126_2041_2060",
 "name": "WorldClim21/wc2_bioc_GFDLESM4_ssp126_2041_2060",
 "description": "",
 "extent": {
  "xmin": -180,
  "ymin": -90,
  "xmax": 180,
  "ymax": 90,
  "spatialReference": {
   "wkid": 4326,
   "latestWkid": 4326
  }
 },
 "initialExtent": {
  "xmin": -180,
  "ymin": -90,
  "xmax": 180,
  "ymax": 90,
  "spatialReference": {
   "wkid": 4326,
   "latestWkid": 4326
  }
 },
 "fullExtent": {
  "xmin": -180,
  "ymin": -90,
  "xmax": 180,
  "ymax": 90,
  "spatialReference": {
   "wkid": 4326,
   "latestWkid": 4326
  }
 },
 "pixelSizeX": 0.041666666666666664,
 "pixelSizeY": 0.041666666666666664,
 "bandCount": 19,
 "pixelType": "F32",
 "minPixelSize": 0,
 "maxPixelSize": 0,
 "copyrightText": "",
 "serviceDataType": "esriImageServiceDataTypeGeneric",
 "minValues": [
  -53.041667938232,
  0.1416667252779,
  1.5740747451782,
  8.6493101119995,
  -29.5,
  -70.900001525879,
  1.8999998569489,
  -64.616668701172,
  -55.716667175293,
  -37.116668701172,
  -65.016662597656,
  0,
  0,
  0,
  0,
  0,
  0,
  0,
  0
 ],
 "maxValues": [
  32.654167175293,
  22.216667175293,
  95.182319641113,
  2354.3227539063,
  49.799999237061,
  27.39999961853,
  73,
  39.666667938232,
  39.866664886475,
  40.25,
  30.533332824707,
  11699,
  2998,
  524,
  230.69151306152,
  6597,
  1711,
  5642,
  5811
 ],
 "meanValues": [
  -2.645306270525,
  10.031611824039,
  33.972202911465,
  880.66802741439,
  15.433779243554,
  -18.44730198802,
  33.881081228743,
  0.24986584530512,
  -3.9063556462869,
  8.5703663629907,
  -12.552017774054,
  543.04907404779,
  96.094355669833,
  14.237755864461,
  76.636472773029,
  243.69502103788,
  52.633589310826,
  152.13304337513,
  111.42863323305
 ],
 "stdvValues": [
  24.666324085041,
  3.1846464963702,
  18.050025339082,
  450.38590265944,
  21.942280913547,
  25.904981349418,
  11.52896401728,
  29.033344382861,
  22.730555802282,
  21.386626528233,
  26.659718245784,
  629.50835892075,
  107.17105042288,
  25.604296525352,
  43.798496511476,
  281.95506061187,
  88.304611518095,
  179.70318848976,
  194.10627404896
 ],
 "objectIdField": "",
 "fields": [],
 "capabilities": "Image,Metadata,Mensuration",
 "defaultMosaicMethod": "Center",
 "allowedMosaicMethods": "",
 "sortField": "",
 "sortValue": null,
 "mosaicOperator": "First",
 "defaultCompressionQuality": 75,
 "defaultResamplingMethod": "Bilinear",
 "maxImageHeight": 4100,
 "maxImageWidth": 15000,
 "allowRasterFunction": true,
 "rasterFunctionInfos": [
  {
   "name": "None",
   "description": "",
   "help": ""
  }
 ],
 "rasterTypeInfos": [
  {
   "name": "Raster Dataset",
   "description": "Supports all ArcGIS Raster Datasets",
   "help": ""
  }
 ],
 "mensurationCapabilities": "Basic",
 "hasHistograms": true,
 "hasColormap": false,
 "hasRasterAttributeTable": false,
 "minScale": 0,
 "maxScale": 0,
 "exportTilesAllowed": false,
 "hasMultidimensions": false,
 "supportsStatistics": false,
 "supportsAdvancedQueries": false,
 "editFieldsInfo": null,
 "ownershipBasedAccessControlForRasters": null,
 "allowComputeTiePoints": false,
 "useStandardizedQueries": true,
 "advancedQueryCapabilities": {
  "useStandardizedQueries": true,
  "supportsStatistics": false,
  "supportsOrderBy": false,
  "supportsDistinct": false,
  "supportsPagination": false
 },
 "spatialReference": {
  "wkid": 4326,
  "latestWkid": 4326
 }
}
